BEGIN:VCALENDAR
VERSION:2.0
PRODID:-//Library Market//iCal Export//EN
BEGIN:VEVENT
SUMMARY:Mah Jongg Play &amp; Practice at Kismet Café
UID:300822
DTSTAMP:20260424T115000Z
DTSTART:20260519T213000Z
DTEND:20260520T003000Z
LOCATION:Kismet CafÃ©, 1311 Londontown Blvd, Eldersburg, MD 21784, Unite
 d States
ROOM: Mah Jongg Play &amp; Practice at Kismet Café
DESCRIPTION:If you have experience with Mah Jongg, either from our 101 cla
 ss or from playing a little bit, come on over and practice with us at Kism
 et Café in Eldersburg. This session is meant for beginners who have alrea
 dy learned how to play. Experienced players are welcome to assist the new 
 folks. We will follow the National Mah Jongg League rules of play. Please 
 bring a 2026 National Mah Jongg League card. If you don’t have a card, o
 ne will be provided. Exercise your brain while having great fun!Kismet wil
 l open at 5:30 PM for this event with their full menu available to order! 
   
URL:https://ccpl.librarymarket.com/event/mah-jongg-play-practice-kismet-ca
 fe-300822
END:VEVENT
END:VCALENDAR
