BEGIN:VCALENDAR
VERSION:2.0
PRODID:-//Library Market//iCal Export//EN
BEGIN:VEVENT
SUMMARY:Eldersburg Ask a Master Gardener
UID:300534
DTSTAMP:20260422T213600Z
DTSTART:20260613T143000Z
DTEND:20260613T160000Z
LOCATION:6400 Hemlock Drive, Eldersburg, MD 21784, United States
ROOM: Eldersburg Ask a Master Gardener
DESCRIPTION:Bring your questions about gardening to a Carroll County Maste
 r Gardener and pick up tips, handouts, and more. 
URL:https://ccpl.librarymarket.com/event/eldersburg-ask-master-gardener-30
 0534
END:VEVENT
END:VCALENDAR
