BEGIN:VCALENDAR
VERSION:2.0
PRODID:-//Library Market//iCal Export//EN
BEGIN:VEVENT
SUMMARY:Saturday Storytime
UID:300206
DTSTAMP:20260419T154500Z
DTSTART:20260425T140000Z
DTEND:20260425T143000Z
LOCATION:705 Ridge Avenue, Mount Airy, MD 21771, United States
ROOM: Mount Airy Large Meeting Room
DESCRIPTION:
URL:https://ccpl.librarymarket.com/event/saturday-storytime-300206
END:VEVENT
END:VCALENDAR
