BEGIN:VCALENDAR
VERSION:2.0
PRODID:-//Library Market//iCal Export//EN
BEGIN:VEVENT
SUMMARY:Carroll 250: All Ye That Pass By - Reflections on the American Rev
 olution as Our First Civil War
UID:295767
DTSTAMP:20260424T063400Z
DTSTART:20260627T180000Z
DTEND:20260627T193000Z
LOCATION:2255 Hanover Pike, Hampstead, MD 21074, United States
ROOM: North Carroll Large Meeting Room
DESCRIPTION:Join historian, author, and musician Avellina Balestri for an 
 educational and entertaining event. She will discuss little-known facets o
 f the American Revolution as our first civil war, brother against brother,
  cousin against cousin, offering a more layered and nuanced sense of our h
 istory. The program will include a reading from her book All Ye That Pass 
 By: Book 1: Gone for a Soldier, performing several period songs, and a Q&a
 mp;A.This program is part of the Carroll 250 Speaker Series celebrating th
 e United States Semiquincentennial, the 250th anniversary of the 1776 Unit
 ed States Declaration of Independence.
URL:https://ccpl.librarymarket.com/event/reflections-american-revolution
END:VEVENT
END:VCALENDAR
