BEGIN:VCALENDAR
VERSION:2.0
PRODID:-//Library Market//iCal Export//EN
BEGIN:VEVENT
SUMMARY:Making for Good: Cricut Cards for Our Troops
UID:300825
DTSTAMP:20260425T143200Z
DTSTART:20260623T170000Z
DTEND:20260623T193000Z
LOCATION:50 East Main Street, Westminster, MD 21157, United States
ROOM: Exploration Commons Classroom
DESCRIPTION:Join us in this Making for Good class as we create appreciatio
 n cards to send to service members overseas. No prior experience using Cri
 cut machines is required.
URL:https://ccpl.librarymarket.com/index.php/event/making-good-cricut-card
 s-our-troops-300825
END:VEVENT
END:VCALENDAR
