BEGIN:VCALENDAR
VERSION:2.0
PRODID:-//Library Market//iCal Export//EN
BEGIN:VEVENT
SUMMARY:Eldersburg Ask a Master Gardener
UID:300537
DTSTAMP:20260424T084100Z
DTSTART:20260808T143000Z
DTEND:20260808T160000Z
LOCATION:6400 Hemlock Drive, Eldersburg, MD 21784, United States
ROOM: Eldersburg Ask a Master Gardener
DESCRIPTION:Bring your questions about gardening to a Carroll County Maste
 r Gardener and pick up tips, handouts, and more. 
URL:https://ccpl.librarymarket.com/index.php/event/eldersburg-ask-master-g
 ardener-300537
END:VEVENT
END:VCALENDAR
