BEGIN:VCALENDAR
VERSION:2.0
PRODID:-//Library Market//iCal Export//EN
BEGIN:VEVENT
SUMMARY:Super Smash Bros. Tournament for Teens
UID:300442
DTSTAMP:20260422T175800Z
DTSTART:20260629T193000Z
DTEND:20260629T203000Z
LOCATION:10 Grand Drive, Taneytown , MD 21787, United States
ROOM: Taneytown Large Meeting Room
DESCRIPTION:CCPL&#039;s Taneytown Branch is holding a Super Smash Bros. to
 urnament for teens, so join us to show you&#039;re the best player in town
 ! There will be no prizes, just glory for the winner!
URL:https://ccpl.librarymarket.com/index.php/event/super-smash-bros-tourna
 ment-teens-300442
END:VEVENT
END:VCALENDAR
