BEGIN:VCALENDAR
VERSION:2.0
PRODID:-//Library Market//iCal Export//EN
BEGIN:VEVENT
SUMMARY:CCGS Research Thursday
UID:300024
DTSTAMP:20260423T145200Z
DTSTART:20260604T170000Z
DTEND:20260604T200000Z
LOCATION:50 East Main Street, Westminster , MD 21157, United States
ROOM: CCGS Research Thursday
DESCRIPTION:Volunteers from the Carroll County Genealogical Society are av
 ailable to help with your family history research. Please contact volunte
 ers at info@ccgsmd.org to schedule a time if you require CCGS staff assist
 ance.
URL:https://ccpl.librarymarket.com/index.php/event/ccgs-research-thursday-
 300024
END:VEVENT
END:VCALENDAR
