BEGIN:VCALENDAR
VERSION:2.0
PRODID:-//Library Market//iCal Export//EN
BEGIN:VEVENT
SUMMARY:To Be Read: Ernest Thompson
UID:299641
DTSTAMP:20260423T025400Z
DTSTART:20260509T180000Z
DTEND:20260509T190000Z
LOCATION:Carroll Lutheran Village - Krug Chapel, 300 St. Luke Circle, West
 minster, MD 21158, United States
ROOM: To Be Read: Ernest Thompson
DESCRIPTION:Presented by Carroll County Public Library, Carroll Lutheran V
 illage, and Park Books on MainErnest Thompsonâ€™s work as a filmmaker, pla
 ywright, and lyricist has been acclaimed around the world. He has won an A
 cademy Award, two Golden Globes, Writers Guild and Broadway Drama Guild Aw
 ards, and Â was nominated for a Tony, an Emmy, and a British Academy Award
 . His dozens of plays have been produced in thousands of theatres, both la
 rge and small, and his most enduring, On Golden Pond, has been translated 
 into 30 languages and presented in more than 40 countries. Current project
 s include Home On Golden Pond, the sequel to his iconic movie; the short f
 ilm The Constituent; several new plays; and numerous videos for songs heâ€
 ™s written with his favorite collaborators. His hilarious and deeply movin
 g first novel, The Book of Maps, published in 2022, has resulted in an end
 less book tour and inquiries into adapting the ultimate father-son road tr
 ip into a streaming series. And his latest book, Out Clause, is an epic li
 terary thriller you won&#039;t be able to put down. With his writer wife, 
 Kerrin Thompson, he established Rescind Recidivism, a prison writing progr
 am providing inmates a chance to feel creative as well as human, capable, 
 and worthy.Download a map of Carroll Lutheran Village to help with navigat
 ion.
URL:https://ccpl.librarymarket.com/index.php/event/ernest-thompson
END:VEVENT
END:VCALENDAR
