BEGIN:VCALENDAR
VERSION:2.0
PRODID:-//Library Market//iCal Export//EN
BEGIN:VEVENT
SUMMARY:KLCC Manchester Elementary Tour #3
UID:297223
DTSTAMP:20260420T151300Z
DTSTART:20260319T164500Z
DTEND:20260319T170000Z
LOCATION:2255 Hanover Pike, Hampstead, MD 21074, United States
ROOM: KLCC Manchester Elementary Tour #3
DESCRIPTION:Library tour
URL:https://ccpl.librarymarket.com/index.php/event/klcc-manchester-element
 ary-tour-3-297223
END:VEVENT
END:VCALENDAR
