BEGIN:VCALENDAR
VERSION:2.0
PRODID:-//Library Market//iCal Export//EN
BEGIN:VEVENT
SUMMARY:KLCC Manchester Elementary Tour #1
UID:297221
DTSTAMP:20260420T151300Z
DTSTART:20260319T144500Z
DTEND:20260319T151500Z
LOCATION:2255 Hanover Pike, Hampstead, MD 21074, United States
ROOM: KLCC Manchester Elementary Tour #1
DESCRIPTION:Library tour
URL:https://ccpl.librarymarket.com/index.php/event/klcc-manchester-element
 ary-tour-1-297221
END:VEVENT
END:VCALENDAR
