BEGIN:VCALENDAR
VERSION:2.0
PRODID:-//Library Market//iCal Export//EN
BEGIN:VEVENT
SUMMARY:Inclusive Cooks: Strawberry Rhubarb Hand Pies
UID:293161
DTSTAMP:20260423T190100Z
DTSTART:20260626T140000Z
DTEND:20260626T153000Z
LOCATION:50 East Main Street, Westminster, MD 21157, United States
ROOM: Exploration Commons Kitchen
DESCRIPTION:In this hands-on cooking series for people with intellectual a
 nd developmental disabilities, and people without, we will prepare strawbe
 rry rhubarb hand pies. 
URL:https://ccpl.librarymarket.com/index.php/event/inclusive-cooks-dessert
 -293161
END:VEVENT
END:VCALENDAR
